BEGIN:VCALENDAR
VERSION:2.0
PRODID:-//demosphere.net//NONSGML kigkonsult.se iCalcreator 2.22.1//
METHOD:REQUEST
X-WR-TIMEZONE:Europe/Madrid
BEGIN:VEVENT
UID:https://safe.axendamazucu.org/evento/13298
DTSTAMP:20250713T093000Z
DESCRIPTION:más información aquí: https://safe.axendamazucu.org/evento/1329
 8
DTSTART:20250713T093000Z
DTEND:20250713T103000Z
GEO:+43.369835;-5.851893
LOCATION:Uviéu/Oviedo\, \nKuivi Almacenes\, \nC/Almacenes industriales\, 40
 \, Uviéu
SUMMARY:6ª edición de la Escuela de Pensamiento Feminista
URL:https://safe.axendamazucu.org/evento/13298
END:VEVENT
END:VCALENDAR
