BEGIN:VCALENDAR
VERSION:2.0
PRODID:-//demosphere.net//NONSGML kigkonsult.se iCalcreator 2.22.1//
METHOD:REQUEST
X-WR-TIMEZONE:Europe/Madrid
BEGIN:VEVENT
UID:https://safe.axendamazucu.org/evento/13307
DTSTAMP:20250707T180000Z
DESCRIPTION:más información aquí: https://safe.axendamazucu.org/evento/1330
 7
DTSTART:20250707T180000Z
DTEND:20250707T190000Z
GEO:+43.249719;-5.778528
LOCATION:Mieres\, \nCasa de la Música C/ Escuela de Capataces nº41
SUMMARY:Así suena la semana negra con Reynaldo Sietecase - Nel Camín del Cr
 ime
URL:https://safe.axendamazucu.org/evento/13307
END:VEVENT
END:VCALENDAR
