BEGIN:VCALENDAR
VERSION:2.0
PRODID:-//demosphere.net//NONSGML kigkonsult.se iCalcreator 2.22.1//
METHOD:REQUEST
X-WR-TIMEZONE:Europe/Madrid
BEGIN:VEVENT
UID:https://safe.axendamazucu.org/evento/13318
DTSTAMP:20250717T170000Z
DESCRIPTION:más información aquí: https://safe.axendamazucu.org/evento/1331
 8
DTSTART:20250717T170000Z
DTEND:20250717T180000Z
GEO:+43.539134;-5.657905
LOCATION:Xixón/Gijón\, \nLa habitación propia \nCelestino Junquera\, 1\, 33
 202 Xixón
SUMMARY:¿Quién traduce a las mujeres?. La importancia de la traducción femi
 nista
URL:https://safe.axendamazucu.org/evento/13318
END:VEVENT
END:VCALENDAR
