BEGIN:VCALENDAR
VERSION:2.0
PRODID:-//demosphere.net//NONSGML kigkonsult.se iCalcreator 2.22.1//
METHOD:REQUEST
X-WR-TIMEZONE:Europe/Madrid
BEGIN:VEVENT
UID:https://safe.axendamazucu.org/evento/13425
DTSTAMP:20250908T110000Z
DESCRIPTION:más información aquí: https://safe.axendamazucu.org/evento/1342
 5
DTSTART:20250908T110000Z
DTEND:20250908T120000Z
GEO:+43.369835;-5.851893
LOCATION:Uviéu/Oviedo\, \nKuivi Almacenes\, \nC/Almacenes industriales\, 40
 \, Uviéu
SUMMARY:Día d'Asturies #8S
URL:https://safe.axendamazucu.org/evento/13425
END:VEVENT
END:VCALENDAR
