BEGIN:VCALENDAR
VERSION:2.0
PRODID:-//demosphere.net//NONSGML kigkonsult.se iCalcreator 2.22.1//
METHOD:REQUEST
X-WR-TIMEZONE:Europe/Madrid
BEGIN:VEVENT
UID:https://safe.axendamazucu.org/evento/13460
DTSTAMP:20251018T110000Z
DESCRIPTION:más información aquí: https://safe.axendamazucu.org/evento/1346
 0
DTSTART:20251018T110000Z
DTEND:20251018T120000Z
GEO:+43.588312;-5.768384
LOCATION:Carreño\, \nCasa del Pueblo CNT Candás\,Avda.Reina María Cristina 
 24\,Candás
SUMMARY:Presentación “Visionarias\, librepensadoras y espiritistas” por Dol
 ors Marin + Matraka Folk
URL:https://safe.axendamazucu.org/evento/13460
END:VEVENT
END:VCALENDAR
