BEGIN:VCALENDAR
VERSION:2.0
PRODID:-//demosphere.net//NONSGML kigkonsult.se iCalcreator 2.22.1//
METHOD:REQUEST
X-WR-TIMEZONE:Europe/Madrid
BEGIN:VEVENT
UID:https://safe.axendamazucu.org/evento/13517
DTSTAMP:20250916T173000Z
DESCRIPTION:más información aquí: https://safe.axendamazucu.org/evento/1351
 7
DTSTART:20250916T173000Z
DTEND:20250916T183000Z
GEO:+43.3603;-5.84338
LOCATION:Oviedo\, \nEl Olivar: C/ Oscura\, nº 1/3 - Oviedo (Asturias)
SUMMARY:Charla 'IA para automatizar un genocidio'
URL:https://safe.axendamazucu.org/evento/13517
END:VEVENT
END:VCALENDAR
