BEGIN:VCALENDAR
VERSION:2.0
PRODID:-//demosphere.net//NONSGML kigkonsult.se iCalcreator 2.22.1//
METHOD:REQUEST
X-WR-TIMEZONE:Europe/Madrid
BEGIN:VEVENT
UID:https://safe.axendamazucu.org/evento/13557
DTSTAMP:20250927T163000Z
DESCRIPTION:más información aquí: https://safe.axendamazucu.org/evento/1355
 7
DTSTART:20250927T163000Z
DTEND:20250927T173000Z
GEO:+43.588312;-5.768384
LOCATION:Carreño\, \nCasa del Pueblo CNT Candás\,Avda.Reina María Cristina 
 24\,Candás
SUMMARY:II Jornadas Memoria Viva Candás 2025.
URL:https://safe.axendamazucu.org/evento/13557
END:VEVENT
END:VCALENDAR
