BEGIN:VCALENDAR
VERSION:2.0
PRODID:-//demosphere.net//NONSGML kigkonsult.se iCalcreator 2.22.1//
METHOD:REQUEST
X-WR-TIMEZONE:Europe/Madrid
BEGIN:VEVENT
UID:https://safe.axendamazucu.org/evento/13574
DTSTAMP:20250927T090000Z
DESCRIPTION:más información aquí: https://safe.axendamazucu.org/evento/1357
 4
DTSTART:20250927T090000Z
DTEND:20250927T100000Z
GEO:+43.3603;-5.84338
LOCATION:Oviedo\, \nEl Olivar: C/ Oscura\, nº 1/3 - Oviedo (Asturias)
SUMMARY:Jornada Chat Control - 2025
URL:https://safe.axendamazucu.org/evento/13574
END:VEVENT
END:VCALENDAR
