BEGIN:VCALENDAR
VERSION:2.0
PRODID:-//demosphere.net//NONSGML kigkonsult.se iCalcreator 2.22.1//
METHOD:REQUEST
X-WR-TIMEZONE:Europe/Madrid
BEGIN:VEVENT
UID:https://safe.axendamazucu.org/evento/13608
DTSTAMP:20251014T170000Z
DESCRIPTION:más información aquí: https://safe.axendamazucu.org/evento/1360
 8
DTSTART:20251014T170000Z
DTEND:20251014T180000Z
GEO:+43.3603;-5.84338
LOCATION:Oviedo\, \nEl Olivar: C/ Oscura\, nº 1/3 - Oviedo (Asturias)
SUMMARY:Curso 'Introducción a la reparación electrónica'
URL:https://safe.axendamazucu.org/evento/13608
END:VEVENT
END:VCALENDAR
