BEGIN:VCALENDAR
VERSION:2.0
PRODID:-//demosphere.net//NONSGML kigkonsult.se iCalcreator 2.22.1//
METHOD:REQUEST
X-WR-TIMEZONE:Europe/Madrid
BEGIN:VEVENT
UID:https://safe.axendamazucu.org/evento/13612
DTSTAMP:20251014T170000Z
DESCRIPTION:más información aquí: https://safe.axendamazucu.org/evento/1361
 2
DTSTART:20251014T170000Z
DTEND:20251014T180000Z
GEO:+43.54012;-5.668148
LOCATION:Xixón/Gijón\, \nCasa Sindical Xixón\,C/Sanz Crespo\,3
SUMMARY:OCTUBRE 34. Concentración por el 91 aniversario de la revolución de
  1934
URL:https://safe.axendamazucu.org/evento/13612
END:VEVENT
END:VCALENDAR
