BEGIN:VCALENDAR
VERSION:2.0
PRODID:-//demosphere.net//NONSGML kigkonsult.se iCalcreator 2.22.1//
METHOD:REQUEST
X-WR-TIMEZONE:Europe/Madrid
BEGIN:VEVENT
UID:https://safe.axendamazucu.org/evento/13690
DTSTAMP:20251122T190000Z
DESCRIPTION:más información aquí: https://safe.axendamazucu.org/evento/1369
 0
DTSTART:20251122T190000Z
DTEND:20251122T200000Z
GEO:+43.369835;-5.851893
LOCATION:Uviéu/Oviedo\, \nKuivi Almacenes\, \nC/Almacenes industriales\, 40
 \, Uviéu
SUMMARY:XXXII Conciertu pola Oficialidá
URL:https://safe.axendamazucu.org/evento/13690
END:VEVENT
END:VCALENDAR
