BEGIN:VCALENDAR
VERSION:2.0
PRODID:-//demosphere.net//NONSGML kigkonsult.se iCalcreator 2.22.1//
METHOD:REQUEST
X-WR-TIMEZONE:Europe/Madrid
BEGIN:VEVENT
UID:https://safe.axendamazucu.org/evento/13693
DTSTAMP:20251107T180000Z
DESCRIPTION:más información aquí: https://safe.axendamazucu.org/evento/1369
 3
DTSTART:20251107T180000Z
DTEND:20251107T190000Z
GEO:+43.539134;-5.657905
LOCATION:Xixón/Gijón\, \nLa habitación propia \nCelestino Junquera\, 1\, 33
 202 Xixón
SUMMARY:Presentación del libro 'Partirse en dos'\, compilación de escritora
 s migrantes
URL:https://safe.axendamazucu.org/evento/13693
END:VEVENT
END:VCALENDAR
