BEGIN:VCALENDAR
VERSION:2.0
PRODID:-//demosphere.net//NONSGML kigkonsult.se iCalcreator 2.22.1//
METHOD:REQUEST
X-WR-TIMEZONE:Europe/Madrid
BEGIN:VEVENT
UID:https://safe.axendamazucu.org/evento/13694
DTSTAMP:20251101T110000Z
DESCRIPTION:más información aquí: https://safe.axendamazucu.org/evento/1369
 4
DTSTART:20251101T110000Z
DTEND:20251101T120000Z
GEO:+43.369835;-5.851893
LOCATION:Uviéu/Oviedo\, \nKuivi Almacenes\, \nC/Almacenes industriales\, 40
 \, Uviéu
SUMMARY:Pan y roses.Primer festival de lliteratura social d'Asturies
URL:https://safe.axendamazucu.org/evento/13694
END:VEVENT
END:VCALENDAR
