BEGIN:VCALENDAR
VERSION:2.0
PRODID:-//demosphere.net//NONSGML kigkonsult.se iCalcreator 2.22.1//
METHOD:REQUEST
X-WR-TIMEZONE:Europe/Madrid
BEGIN:VEVENT
UID:https://safe.axendamazucu.org/evento/13754
DTSTAMP:20251115T113000Z
DESCRIPTION:más información aquí: https://safe.axendamazucu.org/evento/1375
 4
DTSTART:20251115T113000Z
DTEND:20251115T123000Z
GEO:+43.54012;-5.668148
LOCATION:Xixón/Gijón\, \nCasa Sindical Xixón\,C/Sanz Crespo\,3
SUMMARY:XORNAES ANTIFASCISTES - MAÑANA
URL:https://safe.axendamazucu.org/evento/13754
END:VEVENT
END:VCALENDAR
