BEGIN:VCALENDAR
VERSION:2.0
PRODID:-//demosphere.net//NONSGML kigkonsult.se iCalcreator 2.22.1//
METHOD:REQUEST
X-WR-TIMEZONE:Europe/Madrid
BEGIN:VEVENT
UID:https://safe.axendamazucu.org/evento/13759
DTSTAMP:20251114T183000Z
DESCRIPTION:más información aquí: https://safe.axendamazucu.org/evento/1375
 9
DTSTART:20251114T183000Z
DTEND:20251114T193000Z
GEO:+43.539134;-5.657905
LOCATION:Xixón/Gijón\, \nLa habitación propia \nCelestino Junquera\, 1\, 33
 202 Xixón
SUMMARY:Presentación del libro 'La montaña se mueve'
URL:https://safe.axendamazucu.org/evento/13759
END:VEVENT
END:VCALENDAR
