BEGIN:VCALENDAR
VERSION:2.0
PRODID:-//demosphere.net//NONSGML kigkonsult.se iCalcreator 2.22.1//
METHOD:REQUEST
X-WR-TIMEZONE:Europe/Madrid
BEGIN:VEVENT
UID:https://safe.axendamazucu.org/evento/13773
DTSTAMP:20251114T183000Z
DESCRIPTION:más información aquí: https://safe.axendamazucu.org/evento/1377
 3
DTSTART:20251114T183000Z
DTEND:20251114T193000Z
GEO:+43.53658;-5.667735
LOCATION:Xixón/Gijón\, \nLlar El Mazucu\, \nC/Cangues d'Onís\,6\, Xixón
SUMMARY:Charra-Alderique 'La soledá non deseada:Presentación calendarios so
 lidarios 2026'
URL:https://safe.axendamazucu.org/evento/13773
END:VEVENT
END:VCALENDAR
