BEGIN:VCALENDAR
VERSION:2.0
PRODID:-//demosphere.net//NONSGML kigkonsult.se iCalcreator 2.22.1//
METHOD:REQUEST
X-WR-TIMEZONE:Europe/Madrid
BEGIN:VEVENT
UID:https://safe.axendamazucu.org/evento/13796
DTSTAMP:20251121T180000Z
DESCRIPTION:más información aquí: https://safe.axendamazucu.org/evento/1379
 6
DTSTART:20251121T180000Z
DTEND:20251121T190000Z
GEO:+43.539134;-5.657905
LOCATION:Xixón/Gijón\, \nLa habitación propia \nCelestino Junquera\, 1\, 33
 202 Xixón
SUMMARY:Presentación 'Alquimia femenina.Mujer y naturaleza
URL:https://safe.axendamazucu.org/evento/13796
END:VEVENT
END:VCALENDAR
