BEGIN:VCALENDAR
VERSION:2.0
PRODID:-//demosphere.net//NONSGML kigkonsult.se iCalcreator 2.22.1//
METHOD:REQUEST
X-WR-TIMEZONE:Europe/Madrid
BEGIN:VEVENT
UID:https://safe.axendamazucu.org/evento/13802
DTSTAMP:20251129T163000Z
DESCRIPTION:más información aquí: https://safe.axendamazucu.org/evento/1380
 2
DTSTART:20251129T163000Z
DTEND:20251129T173000Z
GEO:+43.539796;-5.66698
LOCATION:Xixón/Gijón\, \nPlaza del Humedal\,Xixón
SUMMARY:El genocidio continua. Manifestación por Palestina en el 78 anivers
 ario de la partición
URL:https://safe.axendamazucu.org/evento/13802
END:VEVENT
END:VCALENDAR
