BEGIN:VCALENDAR
VERSION:2.0
PRODID:-//demosphere.net//NONSGML kigkonsult.se iCalcreator 2.22.1//
METHOD:REQUEST
X-WR-TIMEZONE:Europe/Madrid
BEGIN:VEVENT
UID:https://safe.axendamazucu.org/evento/13811
DTSTAMP:20251129T113000Z
DESCRIPTION:más información aquí: https://safe.axendamazucu.org/evento/1381
 1
DTSTART:20251129T113000Z
DTEND:20251129T123000Z
GEO:+43.539134;-5.657905
LOCATION:Xixón/Gijón\, \nLa habitación propia \nCelestino Junquera\, 1\, 33
 202 Xixón
SUMMARY:Charla-Taller: Menstruación Natural
URL:https://safe.axendamazucu.org/evento/13811
END:VEVENT
END:VCALENDAR
