BEGIN:VCALENDAR
VERSION:2.0
PRODID:-//demosphere.net//NONSGML kigkonsult.se iCalcreator 2.22.1//
METHOD:REQUEST
X-WR-TIMEZONE:Europe/Madrid
BEGIN:VEVENT
UID:https://safe.axendamazucu.org/evento/13872
DTSTAMP:20251204T190000Z
DESCRIPTION:más información aquí: https://safe.axendamazucu.org/evento/1387
 2
DTSTART:20251204T190000Z
DTEND:20251204T200000Z
GEO:+43.362054;-5.848037
LOCATION:Uviéu/Oviedo\, \nPlaza de la Escandalera
SUMMARY:Concentración ¡Basta ya! El machismo mata
URL:https://safe.axendamazucu.org/evento/13872
END:VEVENT
END:VCALENDAR
