BEGIN:VCALENDAR
VERSION:2.0
PRODID:-//demosphere.net//NONSGML kigkonsult.se iCalcreator 2.22.1//
METHOD:REQUEST
X-WR-TIMEZONE:Europe/Madrid
BEGIN:VEVENT
UID:https://safe.axendamazucu.org/evento/13878
DTSTAMP:20251212T183000Z
DESCRIPTION:más información aquí: https://safe.axendamazucu.org/evento/1387
 8
DTSTART:20251212T183000Z
DTEND:20251212T193000Z
GEO:+43.539134;-5.657905
LOCATION:Xixón/Gijón\, \nLa habitación propia \nCelestino Junquera\, 1\, 33
 202 Xixón
SUMMARY:Presentación de la novela 'La geometría de la memoria' con la autor
 a Laura Castañón
URL:https://safe.axendamazucu.org/evento/13878
END:VEVENT
END:VCALENDAR
