BEGIN:VCALENDAR
VERSION:2.0
PRODID:-//demosphere.net//NONSGML kigkonsult.se iCalcreator 2.22.1//
METHOD:REQUEST
X-WR-TIMEZONE:Europe/Madrid
BEGIN:VEVENT
UID:https://safe.axendamazucu.org/evento/13884
DTSTAMP:20251206T090000Z
DESCRIPTION:más información aquí: https://safe.axendamazucu.org/evento/1388
 4
DTSTART:20251206T090000Z
DTEND:20251206T100000Z
GEO:+43.361903;-5.840084
LOCATION:Uviéu/Oviedo\, \nLLar La Llegra. \nC/Postigu Baxu 40\,Uviéu
SUMMARY:Xornaes formatives: Esperiencies compartíes de la Revolución del Ku
 rdistán
URL:https://safe.axendamazucu.org/evento/13884
END:VEVENT
END:VCALENDAR
