BEGIN:VCALENDAR
VERSION:2.0
PRODID:-//demosphere.net//NONSGML kigkonsult.se iCalcreator 2.22.1//
METHOD:REQUEST
X-WR-TIMEZONE:Europe/Madrid
BEGIN:VEVENT
UID:https://safe.axendamazucu.org/evento/13911
DTSTAMP:20251213T110000Z
DESCRIPTION:más información aquí: https://safe.axendamazucu.org/evento/1391
 1
DTSTART:20251213T110000Z
DTEND:20251213T120000Z
GEO:+43.539134;-5.657905
LOCATION:Xixón/Gijón\, \nLa habitación propia \nCelestino Junquera\, 1\, 33
 202 Xixón
SUMMARY:Presentación-taller de 'Por mí volvería a nacer/ Por mi diba volver
  a nacer'
URL:https://safe.axendamazucu.org/evento/13911
END:VEVENT
END:VCALENDAR
