BEGIN:VCALENDAR
VERSION:2.0
PRODID:-//demosphere.net//NONSGML kigkonsult.se iCalcreator 2.22.1//
METHOD:REQUEST
X-WR-TIMEZONE:Europe/Madrid
BEGIN:VEVENT
UID:https://safe.axendamazucu.org/evento/13912
DTSTAMP:20251220T113000Z
DESCRIPTION:más información aquí: https://safe.axendamazucu.org/evento/1391
 2
DTSTART:20251220T113000Z
DTEND:20251220T123000Z
GEO:+43.539134;-5.657905
LOCATION:Xixón/Gijón\, \nLa habitación propia \nCelestino Junquera\, 1\, 33
 202 Xixón
SUMMARY:El club de la Habitación. 'El hielo de los suyos' de Montse Sánchez
  Alonso
URL:https://safe.axendamazucu.org/evento/13912
END:VEVENT
END:VCALENDAR
