BEGIN:VCALENDAR
VERSION:2.0
PRODID:-//demosphere.net//NONSGML kigkonsult.se iCalcreator 2.22.1//
METHOD:REQUEST
X-WR-TIMEZONE:Europe/Madrid
BEGIN:VEVENT
UID:https://safe.axendamazucu.org/evento/13916
DTSTAMP:20251220T110000Z
DESCRIPTION:más información aquí: https://safe.axendamazucu.org/evento/1391
 6
DTSTART:20251220T110000Z
DTEND:20251220T120000Z
GEO:+43.588312;-5.768384
LOCATION:Carreño\, \nCasa del Pueblo CNT Candás\,Avda.Reina María Cristina 
 24\,Candás
SUMMARY:Jornada anarquista para la reflexión de CNT:Taller comunicación Nov
 iolenta estr. feministas 
URL:https://safe.axendamazucu.org/evento/13916
END:VEVENT
END:VCALENDAR
