BEGIN:VCALENDAR
VERSION:2.0
PRODID:-//demosphere.net//NONSGML kigkonsult.se iCalcreator 2.22.1//
METHOD:REQUEST
X-WR-TIMEZONE:Europe/Madrid
BEGIN:VEVENT
UID:https://safe.axendamazucu.org/evento/13918
DTSTAMP:20251220T203000Z
DESCRIPTION:más información aquí: https://safe.axendamazucu.org/evento/1391
 8
DTSTART:20251220T203000Z
DTEND:20251220T213000Z
GEO:+43.588312;-5.768384
LOCATION:Carreño\, \nCasa del Pueblo CNT Candás\,Avda.Reina María Cristina 
 24\,Candás
SUMMARY:Jornada anarquista para la reflexión de CNT: Cinefórum 'El juego de
  la muerte'
URL:https://safe.axendamazucu.org/evento/13918
END:VEVENT
END:VCALENDAR
