BEGIN:VCALENDAR
VERSION:2.0
PRODID:-//demosphere.net//NONSGML kigkonsult.se iCalcreator 2.22.1//
METHOD:REQUEST
X-WR-TIMEZONE:Europe/Madrid
BEGIN:VEVENT
UID:https://safe.axendamazucu.org/evento/13978
DTSTAMP:20260102T190000Z
DESCRIPTION:más información aquí: https://safe.axendamazucu.org/evento/1397
 8
DTSTART:20260102T190000Z
DTEND:20260102T200000Z
GEO:+43.362054;-5.848037
LOCATION:Uviéu/Oviedo\, \nPlaza de la Escandalera
SUMMARY:Concentración ¡Basta ya! El machismo mata 
URL:https://safe.axendamazucu.org/evento/13978
END:VEVENT
END:VCALENDAR
