BEGIN:VCALENDAR
VERSION:2.0
PRODID:-//demosphere.net//NONSGML kigkonsult.se iCalcreator 2.22.1//
METHOD:REQUEST
X-WR-TIMEZONE:Europe/Madrid
BEGIN:VEVENT
UID:https://safe.axendamazucu.org/evento/14064
DTSTAMP:20260118T113000Z
DESCRIPTION:más información aquí: https://safe.axendamazucu.org/evento/1406
 4
DTSTART:20260118T113000Z
DTEND:20260118T123000Z
GEO:+43.539796;-5.66698
LOCATION:Xixón/Gijón\, \nPlaza del Humedal\,Xixón
SUMMARY:Manifestación ¡Fuera yankis de América Latina!
URL:https://safe.axendamazucu.org/evento/14064
END:VEVENT
END:VCALENDAR
