BEGIN:VCALENDAR
VERSION:2.0
PRODID:-//demosphere.net//NONSGML kigkonsult.se iCalcreator 2.22.1//
METHOD:REQUEST
X-WR-TIMEZONE:Europe/Madrid
BEGIN:VEVENT
UID:https://safe.axendamazucu.org/evento/14131
DTSTAMP:20260201T110000Z
DESCRIPTION:más información aquí: https://safe.axendamazucu.org/evento/1413
 1
DTSTART:20260201T110000Z
DTEND:20260201T120000Z
GEO:+43.539796;-5.66698
LOCATION:Xixón/Gijón\, \nPlaza del Humedal\,Xixón
SUMMARY:Manifestación ¡No a la caza!
URL:https://safe.axendamazucu.org/evento/14131
END:VEVENT
END:VCALENDAR
