BEGIN:VCALENDAR
VERSION:2.0
PRODID:-//demosphere.net//NONSGML kigkonsult.se iCalcreator 2.22.1//
METHOD:REQUEST
X-WR-TIMEZONE:Europe/Madrid
BEGIN:VEVENT
UID:https://safe.axendamazucu.org/evento/14142
DTSTAMP:20260130T200000Z
DESCRIPTION:más información aquí: https://safe.axendamazucu.org/evento/1414
 2
DTSTART:20260130T200000Z
DTEND:20260130T210000Z
GEO:+43.364323;-5.841605
LOCATION:Uviéu/Oviedo\, \nEl Manglar \nCalle Martínez Vigil\, 14\, 33010 Ov
 iedo (Asturias)
SUMMARY:Viernes de Jazz en El Manglar. Jam Session abierta
URL:https://safe.axendamazucu.org/evento/14142
END:VEVENT
END:VCALENDAR
