BEGIN:VCALENDAR
VERSION:2.0
PRODID:-//demosphere.net//NONSGML kigkonsult.se iCalcreator 2.22.1//
METHOD:REQUEST
X-WR-TIMEZONE:Europe/Madrid
BEGIN:VEVENT
UID:https://safe.axendamazucu.org/evento/14144
DTSTAMP:20260208T150000Z
DESCRIPTION:más información aquí: https://safe.axendamazucu.org/evento/1414
 4
DTSTART:20260208T150000Z
DTEND:20260208T160000Z
GEO:+43.374321;-5.878706
LOCATION:Uviéu/Oviedo\, \nParcela de El Viescu\, Uviéu
SUMMARY:Taller de supercultivos
URL:https://safe.axendamazucu.org/evento/14144
END:VEVENT
END:VCALENDAR
