BEGIN:VCALENDAR
VERSION:2.0
PRODID:-//demosphere.net//NONSGML kigkonsult.se iCalcreator 2.22.1//
METHOD:REQUEST
X-WR-TIMEZONE:Europe/Madrid
BEGIN:VEVENT
UID:https://safe.axendamazucu.org/evento/14172
DTSTAMP:20260228T160000Z
DESCRIPTION:más información aquí: https://safe.axendamazucu.org/evento/1417
 2
DTSTART:20260228T160000Z
DTEND:20260228T170000Z
GEO:+43.557045;-5.932157
LOCATION:Avilés\, \nFernando Morán\, edificio Fuero
SUMMARY:Juegos de mesa - Roca de Guia
URL:https://safe.axendamazucu.org/evento/14172
END:VEVENT
END:VCALENDAR
