BEGIN:VCALENDAR
VERSION:2.0
PRODID:-//demosphere.net//NONSGML kigkonsult.se iCalcreator 2.22.1//
METHOD:REQUEST
X-WR-TIMEZONE:Europe/Madrid
BEGIN:VEVENT
UID:https://safe.axendamazucu.org/evento/14176
DTSTAMP:20260207T110000Z
DESCRIPTION:más información aquí: https://safe.axendamazucu.org/evento/1417
 6
DTSTART:20260207T110000Z
DTEND:20260207T120000Z
GEO:+43.541473;-5.662259
LOCATION:Xixón/Gijón\, \nCentro de Cultura Antiguo Instituto de Gijón\, en 
 la calle Jovellanos\, nº 21.
SUMMARY:N´Alcordanza de Xuan Bello: A la solombra d`una crezal
URL:https://safe.axendamazucu.org/evento/14176
END:VEVENT
END:VCALENDAR
