BEGIN:VCALENDAR
VERSION:2.0
PRODID:-//demosphere.net//NONSGML kigkonsult.se iCalcreator 2.22.1//
METHOD:REQUEST
X-WR-TIMEZONE:Europe/Madrid
BEGIN:VEVENT
UID:https://safe.axendamazucu.org/evento/14195
DTSTAMP:20260215T110000Z
DESCRIPTION:más información aquí: https://safe.axendamazucu.org/evento/1419
 5
DTSTART:20260215T110000Z
DTEND:20260215T120000Z
GEO:+43.374321;-5.878706
LOCATION:Uviéu/Oviedo\, \nParcela de El Viescu\, Uviéu
SUMMARY:Plantación del Tilo de Mercedes
URL:https://safe.axendamazucu.org/evento/14195
END:VEVENT
END:VCALENDAR
