BEGIN:VCALENDAR
VERSION:2.0
PRODID:-//demosphere.net//NONSGML kigkonsult.se iCalcreator 2.22.1//
METHOD:REQUEST
X-WR-TIMEZONE:Europe/Madrid
BEGIN:VEVENT
UID:https://safe.axendamazucu.org/evento/14209
DTSTAMP:20260214T190000Z
DESCRIPTION:más información aquí: https://safe.axendamazucu.org/evento/1420
 9
DTSTART:20260214T190000Z
DTEND:20260214T200000Z
GEO:+43.364323;-5.841605
LOCATION:Uviéu/Oviedo\, \nEl Manglar \nCalle Martínez Vigil\, 14\, 33010 Ov
 iedo (Asturias)
SUMMARY:Concierto en El Manglar 'All my loves in vain' Con Sil Fernández y 
 Álvaro Bárcena.
URL:https://safe.axendamazucu.org/evento/14209
END:VEVENT
END:VCALENDAR
