BEGIN:VCALENDAR
VERSION:2.0
PRODID:-//demosphere.net//NONSGML kigkonsult.se iCalcreator 2.22.1//
METHOD:REQUEST
X-WR-TIMEZONE:Europe/Madrid
BEGIN:VEVENT
UID:https://safe.axendamazucu.org/evento/14220
DTSTAMP:20260220T180000Z
DESCRIPTION:más información aquí: https://safe.axendamazucu.org/evento/1422
 0
DTSTART:20260220T180000Z
DTEND:20260220T190000Z
GEO:+43.293677;-5.681985
LOCATION:Llangreu/Langreo\, \nCine Felgueroso \nC/ Dorado Sama
SUMMARY:Premio a la VIDA al COPINH 'de Berta'.
URL:https://safe.axendamazucu.org/evento/14220
END:VEVENT
END:VCALENDAR
