BEGIN:VCALENDAR
VERSION:2.0
PRODID:-//demosphere.net//NONSGML kigkonsult.se iCalcreator 2.22.1//
METHOD:REQUEST
X-WR-TIMEZONE:Europe/Madrid
BEGIN:VEVENT
UID:https://safe.axendamazucu.org/evento/14221
DTSTAMP:20260222T120000Z
DESCRIPTION:más información aquí: https://safe.axendamazucu.org/evento/1422
 1
DTSTART:20260222T120000Z
DTEND:20260222T130000Z
GEO:+43.364323;-5.841605
LOCATION:Uviéu/Oviedo\, \nEl Manglar \nCalle Martínez Vigil\, 14\, 33010 Ov
 iedo (Asturias)
SUMMARY:Con el COPINH de Honduras: vermú solidario
URL:https://safe.axendamazucu.org/evento/14221
END:VEVENT
END:VCALENDAR
