BEGIN:VCALENDAR
VERSION:2.0
PRODID:-//demosphere.net//NONSGML kigkonsult.se iCalcreator 2.22.1//
METHOD:REQUEST
X-WR-TIMEZONE:Europe/Madrid
BEGIN:VEVENT
UID:https://safe.axendamazucu.org/evento/14227
DTSTAMP:20260224T180000Z
DESCRIPTION:más información aquí: https://safe.axendamazucu.org/evento/1422
 7
DTSTART:20260224T180000Z
DTEND:20260224T190000Z
GEO:+43.539134;-5.657905
LOCATION:Xixón/Gijón\, \nLa habitación propia \nCelestino Junquera\, 1\, 33
 202 Xixón
SUMMARY:Presentación de la novela 'Mañana matarán a Daniel' con su autrora 
 Aroa Moreno
URL:https://safe.axendamazucu.org/evento/14227
END:VEVENT
END:VCALENDAR
