BEGIN:VCALENDAR
VERSION:2.0
PRODID:-//demosphere.net//NONSGML kigkonsult.se iCalcreator 2.22.1//
METHOD:REQUEST
X-WR-TIMEZONE:Europe/Madrid
BEGIN:VEVENT
UID:https://safe.axendamazucu.org/evento/14248
DTSTAMP:20260219T140000Z
DESCRIPTION:más información aquí: https://safe.axendamazucu.org/evento/1424
 8
DTSTART:20260219T140000Z
DTEND:20260219T150000Z
GEO:+43.364323;-5.841605
LOCATION:Uviéu/Oviedo\, \nEl Manglar \nCalle Martínez Vigil\, 14\, 33010 Ov
 iedo (Asturias)
SUMMARY:Presentación: Frente al racismo y la extrema derecha\, les jóvenes 
 respondemos
URL:https://safe.axendamazucu.org/evento/14248
END:VEVENT
END:VCALENDAR
