BEGIN:VCALENDAR
VERSION:2.0
PRODID:-//demosphere.net//NONSGML kigkonsult.se iCalcreator 2.22.1//
METHOD:REQUEST
X-WR-TIMEZONE:Europe/Madrid
BEGIN:VEVENT
UID:https://safe.axendamazucu.org/evento/14267
DTSTAMP:20260222T093000Z
DESCRIPTION:más información aquí: https://safe.axendamazucu.org/evento/1426
 7
DTSTART:20260222T093000Z
DTEND:20260222T103000Z
GEO:+43.374321;-5.878706
LOCATION:Uviéu/Oviedo\, \nParcela de El Viescu\, Uviéu
SUMMARY:Ciclo de rutas por el Oviedo rural: Caleyando por Latores
URL:https://safe.axendamazucu.org/evento/14267
END:VEVENT
END:VCALENDAR
