BEGIN:VCALENDAR
VERSION:2.0
PRODID:-//demosphere.net//NONSGML kigkonsult.se iCalcreator 2.22.1//
METHOD:REQUEST
X-WR-TIMEZONE:Europe/Madrid
BEGIN:VEVENT
UID:https://safe.axendamazucu.org/evento/14269
DTSTAMP:20260301T170000Z
DESCRIPTION:más información aquí: https://safe.axendamazucu.org/evento/1426
 9
DTSTART:20260301T170000Z
DTEND:20260301T180000Z
GEO:+43.364323;-5.841605
LOCATION:Uviéu/Oviedo\, \nEl Manglar \nCalle Martínez Vigil\, 14\, 33010 Ov
 iedo (Asturias)
SUMMARY:Presentación de Axudi:Un espacio para conocernos
URL:https://safe.axendamazucu.org/evento/14269
END:VEVENT
END:VCALENDAR
