BEGIN:VCALENDAR
VERSION:2.0
PRODID:-//demosphere.net//NONSGML kigkonsult.se iCalcreator 2.22.1//
METHOD:REQUEST
X-WR-TIMEZONE:Europe/Madrid
BEGIN:VEVENT
UID:https://safe.axendamazucu.org/evento/14272
DTSTAMP:20260306T180000Z
DESCRIPTION:más información aquí: https://safe.axendamazucu.org/evento/1427
 2
DTSTART:20260306T180000Z
DTEND:20260306T190000Z
GEO:+43.310816;-5.689086
LOCATION:Llangreu/Langreo\, \nCSA La Xusticia\, \nPlaza Aquilino Moral 5\, 
 La Felguera
SUMMARY:X Años del CSA La Xusticia:'Muyer\,llibertá y vida\,historia de una
  Revolución'
URL:https://safe.axendamazucu.org/evento/14272
END:VEVENT
END:VCALENDAR
