BEGIN:VCALENDAR
VERSION:2.0
PRODID:-//demosphere.net//NONSGML kigkonsult.se iCalcreator 2.22.1//
METHOD:REQUEST
X-WR-TIMEZONE:Europe/Madrid
BEGIN:VEVENT
UID:https://safe.axendamazucu.org/evento/14273
DTSTAMP:20260314T113000Z
DESCRIPTION:más información aquí: https://safe.axendamazucu.org/evento/1427
 3
DTSTART:20260314T113000Z
DTEND:20260314T123000Z
GEO:+43.310816;-5.689086
LOCATION:Llangreu/Langreo\, \nCSA La Xusticia\, \nPlaza Aquilino Moral 5\, 
 La Felguera
SUMMARY:X Años del CSA La Xusticia:'Alcuentru con Encarna Revuelta y Carlos
  Azagra'
URL:https://safe.axendamazucu.org/evento/14273
END:VEVENT
END:VCALENDAR
