BEGIN:VCALENDAR
VERSION:2.0
PRODID:-//demosphere.net//NONSGML kigkonsult.se iCalcreator 2.22.1//
METHOD:REQUEST
X-WR-TIMEZONE:Europe/Madrid
BEGIN:VEVENT
UID:https://safe.axendamazucu.org/evento/14274
DTSTAMP:20260410T170000Z
DESCRIPTION:más información aquí: https://safe.axendamazucu.org/evento/1427
 4
DTSTART:20260410T170000Z
DTEND:20260410T180000Z
GEO:+43.310816;-5.689086
LOCATION:Llangreu/Langreo\, \nCSA La Xusticia\, \nPlaza Aquilino Moral 5\, 
 La Felguera
SUMMARY:X Años del CSA La Xusticia:'La filosofía libertaria de Simone Weil'
 \,con Noelia Bueno
URL:https://safe.axendamazucu.org/evento/14274
END:VEVENT
END:VCALENDAR
