BEGIN:VCALENDAR
VERSION:2.0
PRODID:-//demosphere.net//NONSGML kigkonsult.se iCalcreator 2.22.1//
METHOD:REQUEST
X-WR-TIMEZONE:Europe/Madrid
BEGIN:VEVENT
UID:https://safe.axendamazucu.org/evento/14282
DTSTAMP:20260306T183000Z
DESCRIPTION:más información aquí: https://safe.axendamazucu.org/evento/1428
 2
DTSTART:20260306T183000Z
DTEND:20260306T193000Z
GEO:+43.360385;-5.842452
LOCATION:Uviéu/Oviedo\, \nRadio QK\, \nC/Padre Suárez\,1\, Oviedo
SUMMARY:Grupo lectura Radio QK: fin del mundo
URL:https://safe.axendamazucu.org/evento/14282
END:VEVENT
END:VCALENDAR
