BEGIN:VCALENDAR
VERSION:2.0
PRODID:-//demosphere.net//NONSGML kigkonsult.se iCalcreator 2.22.1//
METHOD:REQUEST
X-WR-TIMEZONE:Europe/Madrid
BEGIN:VEVENT
UID:https://safe.axendamazucu.org/evento/14327
DTSTAMP:20260314T183000Z
DESCRIPTION:más información aquí: https://safe.axendamazucu.org/evento/1432
 7
DTSTART:20260314T183000Z
DTEND:20260314T193000Z
GEO:+43.539134;-5.657905
LOCATION:Xixón/Gijón\, \nLa habitación propia \nCelestino Junquera\, 1\, 33
 202 Xixón
SUMMARY:Presentación 'La edad infinita' con su autora Miriam Reyes Premio N
 acional de Poesía
URL:https://safe.axendamazucu.org/evento/14327
END:VEVENT
END:VCALENDAR
