BEGIN:VCALENDAR
VERSION:2.0
PRODID:-//demosphere.net//NONSGML kigkonsult.se iCalcreator 2.22.1//
METHOD:REQUEST
X-WR-TIMEZONE:Europe/Madrid
BEGIN:VEVENT
UID:https://safe.axendamazucu.org/evento/14332
DTSTAMP:20260305T180000Z
DESCRIPTION:más información aquí: https://safe.axendamazucu.org/evento/1433
 2
DTSTART:20260305T180000Z
DTEND:20260305T190000Z
GEO:+43.364323;-5.841605
LOCATION:Uviéu/Oviedo\, \nEl Manglar \nCalle Martínez Vigil\, 14\, 33010 Ov
 iedo (Asturias)
SUMMARY:Inauguración de la exposición 'Abstracciones'
URL:https://safe.axendamazucu.org/evento/14332
END:VEVENT
END:VCALENDAR
