BEGIN:VCALENDAR
VERSION:2.0
PRODID:-//demosphere.net//NONSGML kigkonsult.se iCalcreator 2.22.1//
METHOD:REQUEST
X-WR-TIMEZONE:Europe/Madrid
BEGIN:VEVENT
UID:https://safe.axendamazucu.org/evento/14339
DTSTAMP:20260306T180000Z
DESCRIPTION:más información aquí: https://safe.axendamazucu.org/evento/1433
 9
DTSTART:20260306T180000Z
DTEND:20260306T190000Z
GEO:+43.539752;-6.724565
LOCATION:Navia\, \nLa Casa Azul\,Pedro Fernández Méndez\, 2 As Veigas - Nav
 ia
SUMMARY:Proyección de la película 'Cortes peligrosos' de Rachel Marey
URL:https://safe.axendamazucu.org/evento/14339
END:VEVENT
END:VCALENDAR
