BEGIN:VCALENDAR
VERSION:2.0
PRODID:-//demosphere.net//NONSGML kigkonsult.se iCalcreator 2.22.1//
METHOD:REQUEST
X-WR-TIMEZONE:Europe/Madrid
BEGIN:VEVENT
UID:https://safe.axendamazucu.org/evento/14349
DTSTAMP:20260321T100000Z
DESCRIPTION:más información aquí: https://safe.axendamazucu.org/evento/1434
 9
DTSTART:20260321T100000Z
DTEND:20260321T110000Z
GEO:+43.374321;-5.878706
LOCATION:Uviéu/Oviedo\, \nParcela de El Viescu\, Uviéu
SUMMARY:Taller de Botiquín Natural en El Viescu
URL:https://safe.axendamazucu.org/evento/14349
END:VEVENT
END:VCALENDAR
