BEGIN:VCALENDAR
VERSION:2.0
PRODID:-//demosphere.net//NONSGML kigkonsult.se iCalcreator 2.22.1//
METHOD:REQUEST
X-WR-TIMEZONE:Europe/Madrid
BEGIN:VEVENT
UID:https://safe.axendamazucu.org/evento/14358
DTSTAMP:20260312T180000Z
DESCRIPTION:más información aquí: https://safe.axendamazucu.org/evento/1435
 8
DTSTART:20260312T180000Z
DTEND:20260312T190000Z
GEO:+43.250229;-5.772957
LOCATION:Mieres\, \nCasa Cultura Teodoro Cuesta. \nC/Manuel Llanez 8\,Miere
 s
SUMMARY:Presentación del libro 'Los que fueron tanto siendo nada'
URL:https://safe.axendamazucu.org/evento/14358
END:VEVENT
END:VCALENDAR
